BEGIN:VCALENDAR
VERSION:2.0
PRODID:-//Tukios.com/
BEGIN:VEVENT
UID:32341c3e-ae11-4211-abf3-18caba869e10@www.heavenlygatefuneralservices.com
DTSTAMP:20260422T194829Z
DTSTART:20260427T160000Z
DTEND:20260427T170000Z
SUMMARY:Funeral Service
DESCRIPTION:
URL:https://www.heavenlygatefuneralservices.com/obituaries/brandon-landrum
LOCATION: 702 Gatewood Road  Garland TX 75043
GEO:32.8608627;-96.6038211
END:VEVENT
END:VCALENDAR