BEGIN:VCALENDAR
VERSION:2.0
PRODID:-//Tukios.com/
BEGIN:VEVENT
UID:277f1e0f-cc83-426b-80c2-ec44d9455a47@www.heavenlygatefuneralservices.com
DTSTAMP:20260422T194951Z
DTSTART:20260427
SUMMARY:Burial
DESCRIPTION:
URL:https://www.heavenlygatefuneralservices.com/obituaries/brandon-landrum
LOCATION:Kemp City Cemetery 15150 Toloso Road  Kemp TX 75143
GEO:32.4280473;-96.2312801
END:VEVENT
END:VCALENDAR